BEGIN:VCALENDAR
VERSION:2.0
PRODID:-//Dein Stoffmarkt - ECPv6.15.16//NONSGML v1.0//EN
CALSCALE:GREGORIAN
METHOD:PUBLISH
X-WR-CALNAME:Dein Stoffmarkt
X-ORIGINAL-URL:https://stoffexpomarkt.mediadesign-linke.de
X-WR-CALDESC:Veranstaltungen für Dein Stoffmarkt
REFRESH-INTERVAL;VALUE=DURATION:PT1H
X-Robots-Tag:noindex
X-PUBLISHED-TTL:PT1H
BEGIN:VTIMEZONE
TZID:Europe/Berlin
BEGIN:DAYLIGHT
TZOFFSETFROM:+0100
TZOFFSETTO:+0200
TZNAME:CEST
DTSTART:20250330T010000
END:DAYLIGHT
BEGIN:STANDARD
TZOFFSETFROM:+0200
TZOFFSETTO:+0100
TZNAME:CET
DTSTART:20251026T010000
END:STANDARD
BEGIN:DAYLIGHT
TZOFFSETFROM:+0100
TZOFFSETTO:+0200
TZNAME:CEST
DTSTART:20260329T010000
END:DAYLIGHT
BEGIN:STANDARD
TZOFFSETFROM:+0200
TZOFFSETTO:+0100
TZNAME:CET
DTSTART:20261025T010000
END:STANDARD
BEGIN:DAYLIGHT
TZOFFSETFROM:+0100
TZOFFSETTO:+0200
TZNAME:CEST
DTSTART:20270328T010000
END:DAYLIGHT
BEGIN:STANDARD
TZOFFSETFROM:+0200
TZOFFSETTO:+0100
TZNAME:CET
DTSTART:20271031T010000
END:STANDARD
END:VTIMEZONE
BEGIN:VEVENT
DTSTART;TZID=Europe/Berlin:20260426T110000
DTEND;TZID=Europe/Berlin:20260426T170000
DTSTAMP:20260426T020526
CREATED:20170403T212628Z
LAST-MODIFIED:20251212T192959Z
UID:867-1777201200-1777222800@stoffexpomarkt.mediadesign-linke.de
SUMMARY:Stoffmarkt Bad Godesberg
DESCRIPTION:Am Sonntag\, den 26. April 2026 von 11-17 Uhr\, gastiert der Deutsch-Holländische Stoffmarkt wieder in Bad Godesberg. Zahlreiche kreativ dekorierte Stände verwandeln den Theaterplatz in ein buntes Paradies für Selbermacher. \nAnders als beim Online-Handel\, hat hier jeder Besucher die Möglichkeit die Produkte in die Hand zu nehmen und die Qualität selbst zu begutachten\, denn Stoffe muss man fühlen. Zudem punkten die Aussteller mit fachlicher Kompetenz bei der Beratung und geben Besuchern gerne Infos über die Ware – vom Rohstoff über die Handelsbedingungen bis zur Färbung. \nUnzählige Stoffe in allen nur erdenklichen Mustern\, Farben und Qualitäten können begutachtet und verglichen werden. Das große Sortiment an Kinderstoffen lädt förmlich dazu ein\, die Kinderkleidung selbst zu gestalten und sich bei den bunten Mustern mit witzigen Tiermotiven auszutoben. \nAbgerundet wird das Angebot durch eine riesige Auswahl an Schnittmustern und Kurzwaren wie Applikationen\, Borten\, Nadeln oder Garn.
URL:https://stoffexpomarkt.mediadesign-linke.de/termine/stoffmarkt-bad-godesberg/
LOCATION:Theaterplatz\, Bad Godesberg\, Theaterplatz\, Bad Godesberg\, Nordrhein-Westfalen\, 53177\, Deutschland
CATEGORIES:Stoffmarkt
ORGANIZER;CN="Expo Event Marketing GmbH Gesch%C3%A4ftsf%C3%BChrer%3A Marko Krstic":MAILTO:info@expo-em.de
END:VEVENT
END:VCALENDAR