BEGIN:VCALENDAR
VERSION:2.0
PRODID:-//Dein Stoffmarkt - ECPv6.15.16//NONSGML v1.0//EN
CALSCALE:GREGORIAN
METHOD:PUBLISH
X-WR-CALNAME:Dein Stoffmarkt
X-ORIGINAL-URL:https://stoffexpomarkt.mediadesign-linke.de
X-WR-CALDESC:Veranstaltungen für Dein Stoffmarkt
REFRESH-INTERVAL;VALUE=DURATION:PT1H
X-Robots-Tag:noindex
X-PUBLISHED-TTL:PT1H
BEGIN:VTIMEZONE
TZID:Europe/Berlin
BEGIN:DAYLIGHT
TZOFFSETFROM:+0100
TZOFFSETTO:+0200
TZNAME:CEST
DTSTART:20250330T010000
END:DAYLIGHT
BEGIN:STANDARD
TZOFFSETFROM:+0200
TZOFFSETTO:+0100
TZNAME:CET
DTSTART:20251026T010000
END:STANDARD
BEGIN:DAYLIGHT
TZOFFSETFROM:+0100
TZOFFSETTO:+0200
TZNAME:CEST
DTSTART:20260329T010000
END:DAYLIGHT
BEGIN:STANDARD
TZOFFSETFROM:+0200
TZOFFSETTO:+0100
TZNAME:CET
DTSTART:20261025T010000
END:STANDARD
BEGIN:DAYLIGHT
TZOFFSETFROM:+0100
TZOFFSETTO:+0200
TZNAME:CEST
DTSTART:20270328T010000
END:DAYLIGHT
BEGIN:STANDARD
TZOFFSETFROM:+0200
TZOFFSETTO:+0100
TZNAME:CET
DTSTART:20271031T010000
END:STANDARD
END:VTIMEZONE
BEGIN:VEVENT
DTSTART;TZID=Europe/Berlin:20260424T100000
DTEND;TZID=Europe/Berlin:20260424T170000
DTSTAMP:20260424T114745
CREATED:20170403T213736Z
LAST-MODIFIED:20251212T192925Z
UID:883-1777024800-1777050000@stoffexpomarkt.mediadesign-linke.de
SUMMARY:Stoffmarkt Hanau
DESCRIPTION:Am Freitag\, den 24. April 2026 von 10-17 Uhr\, gastiert der Deutsch-Holländische Stoffmarkt in Hanau. Zahlreiche kreativ dekorierte Stände verwandeln den Marktplatz in ein buntes Paradies für Nähbegeisterte. \nAnders als beim Online-Handel\, hat hier jeder Besucher die Möglichkeit die Produkte in die Hand zu nehmen und die Qualität selbst zu begutachten\, denn Stoffe muss man fühlen. Zudem punkten die Aussteller mit fachlicher Kompetenz bei der Beratung und geben Besuchern gerne Infos über die Ware – vom Rohstoff über die Handelsbedingungen bis zur Färbung. \nAuch für Nähanfänger gestaltet sich das Nähen\, dank moderner Schnitte und unkomplizierter Stoffe\, einfacher denn je. Daher ist das Publikum der Stoffmärkte so bunt gemischt wie die Auswahl. Von jungen Frauen\, die schöne Mode gestalten wollen\, bis hin zu Senioren\, die ihre Gartenmöbel-Polster etwas aufpeppen wollen\, ist alles vorhanden. \nAbgerundet wird das Angebot durch eine riesige Auswahl an Schnittmustern und Kurzwaren wie Applikationen\, Borten\, Nadeln oder Garn.
URL:https://stoffexpomarkt.mediadesign-linke.de/termine/stoffmarkt-hanau/
LOCATION:Marktplatz\, Hanau\, Am Markt 14\, Hanau\, Hessen\, 63450\, Deutschland
CATEGORIES:Stoffmarkt
ORGANIZER;CN="Expo Event Marketing GmbH Gesch%C3%A4ftsf%C3%BChrer%3A Marko Krstic":MAILTO:info@expo-em.de
END:VEVENT
END:VCALENDAR